BEGIN:VCALENDAR
VERSION:2.0
PRODID:-//Library Market//iCal Export//EN
BEGIN:VEVENT
SUMMARY:Decorating Kindness Rocks
UID:24176
DTSTAMP:20260421T123200Z
DTSTART:20260605T194500Z
DTEND:20260605T203000Z
LOCATION:Larchmont Public Library, 121 Larchmont Ave, Larchmont, NY 10538,
  United States
ROOM: The Michael P. Coords Activity Room
DESCRIPTION:Help spread a little love. Drop-in and use our paint pens to l
 eave an inspirational message for someone who might need it. You’ll be g
 iven one rock to paint and leave and one rock to take with you.This progra
 m is intended Grades Kindergarten &amp; Up with a caregiver. 
URL:https://larchmont.librarycalendar.com/event/childrens-program-24176
END:VEVENT
END:VCALENDAR
