BEGIN:VCALENDAR
VERSION:2.0
PRODID:-//Library Market//iCal Export//EN
BEGIN:VEVENT
SUMMARY:School&#039;s Out Bookmark Decorating!
UID:34014
DTSTAMP:20260419T225500Z
DTSTART:20260626T183000Z
DTEND:20260626T203000Z
LOCATION:Larchmont Public Library, 121 Larchmont Ave, Larchmont, NY 10538,
  United States
ROOM: The Michael P. Coords Activity Room
DESCRIPTION:School&#039;s out for Summer! Drop-in and make some creative a
 nd colorful bookmarks for you, your friends, or leave some for other libra
 ry readers.Don&#039;t forget to sign-up for the Summer Reading Game!
URL:https://larchmont.librarycalendar.com/event/schools-out-bookmark-decor
 ating-34014
END:VEVENT
END:VCALENDAR
