BEGIN:VCALENDAR
VERSION:2.0
PRODID:-//Library Market//iCal Export//EN
BEGIN:VEVENT
SUMMARY:Mini Masterpieces
UID:34018
DTSTAMP:20260422T115300Z
DTSTART:20260612T194500Z
DTEND:20260612T203000Z
LOCATION:Larchmont Public Library, 121 Larchmont Ave, Larchmont, NY 10538,
  United States
ROOM: The Michael P. Coords Activity Room
DESCRIPTION:Our 3rd Annual Children&#039;s Room Mini Art Show is happening
  in July. Get an early start on your submission and create some mini-maste
 rpieces. Maybe you can submit one to the show?Each child will get to make 
 2 mini-masterpieces and get to take home a tiny-easel.
URL:https://larchmont.librarycalendar.com/event/mini-masterpieces-34018
END:VEVENT
END:VCALENDAR
