BEGIN:VCALENDAR
VERSION:2.0
PRODID:-//Library Market//iCal Export//EN
BEGIN:VEVENT
SUMMARY:Twilight Zone TV Show Screening
UID:34583
DTSTAMP:20260421T123200Z
DTSTART:20260512T223000Z
DTEND:20260512T233000Z
LOCATION:Larchmont Public Library, 121 Larchmont Avenue, Larchmont, NY 105
 38, United States
ROOM: The Village Center (entrance at rear of Library)
DESCRIPTION:Join us (and Rod Serling) as we screen two episodes of the ori
 ginal Twilight Zone. We will screen &quot;Time Enough at Last&quot; and &q
 uot;To Serve Man&quot; There will be light refreshments and a short discus
 sion.Do you want a reminder for this program?  Click the box with the clo
 ck above to request one.
URL:https://larchmont.librarycalendar.com/event/twilight-zone-tv-show-3458
 3
END:VEVENT
END:VCALENDAR
