BEGIN:VCALENDAR
VERSION:2.0
PRODID:-//Library Market//iCal Export//EN
BEGIN:VEVENT
SUMMARY:Mantabots Robotics Demo
UID:34646
DTSTAMP:20260422T115300Z
DTSTART:20260607T190000Z
DTEND:20260607T200000Z
LOCATION:Larchmont Public Library, 121 Larchmont Avenue, Larchmont, NY 105
 38, United States
ROOM: The Village Center (entrance at rear of Library)
DESCRIPTION:MantaBots is a competitive high school robotics team in the FI
 RST Tech Challenge (or FTC, for short) based in Mamaroneck. Their team des
 igns, builds, and programs robots to compete in engineering challenges. Co
 me hear about robots and watch them demonstrate with one live!  this pro
 gram is meant for Children in Grades 2-5 and their caregivers, but younger
  siblings are welcome to attend
URL:https://larchmont.librarycalendar.com/event/mantabots-34646
END:VEVENT
END:VCALENDAR
