BEGIN:VCALENDAR
VERSION:2.0
PRODID:-//Library Market//iCal Export//EN
BEGIN:VEVENT
SUMMARY:Ray of Sunshine: an Expressive Art Workshop
UID:34684
DTSTAMP:20260422T115300Z
DTSTART:20260526T180000Z
DTEND:20260526T190000Z
LOCATION:Larchmont Public Library, 121 Larchmont Avenue, Larchmont, NY 105
 38, United States
ROOM: The Village Center (entrance at rear of Library)
DESCRIPTION:Participants will explore their mental health well-being by re
 flecting on the positive aspects in their life. Guided reflections will be
  used to promote participants to think of the things that bring them happi
 ness. Based on these reflections, participants will use watercolors to pro
 cess their reflections and emotions through art.The Family Services of Wes
 tchester is a non-profit organization that provides services to individual
 s all over Westchester County. The Community Mental Health Promotion and S
 upport also know a COMHPS is a program that focuses on reducing the stigma
  of mental health through community engagement such as tabling, educationa
 l presentations, and expressive arts workshops.Sign Up Required 
URL:https://larchmont.librarycalendar.com/event/wellness-creative-arts-pro
 gram-34684
END:VEVENT
END:VCALENDAR
