BEGIN:VCALENDAR
VERSION:2.0
PRODID:-//Library Market//iCal Export//EN
BEGIN:VEVENT
SUMMARY:Open Play Chess
UID:35234
DTSTAMP:20260422T123400Z
DTSTART:20260531T170000Z
DTEND:20260531T183000Z
LOCATION:Larchmont Public Library, 121 Larchmont Ave, Larchmont, NY 10538,
  United States
ROOM: The Michael P. Coords Activity Room
DESCRIPTION:Join us for the opportunity to play multiple chess games! All 
 skill levels welcome. Students from Mamaroneck High School will set up gam
 es and provide tips.
URL:https://larchmont.librarycalendar.com/event/copy-open-play-chess-35234
END:VEVENT
END:VCALENDAR
