BEGIN:VCALENDAR
VERSION:2.0
PRODID:-//Library Market//iCal Export//EN
BEGIN:VEVENT
SUMMARY:Twilight Zone with the Lions!
UID:35295
DTSTAMP:20260424T223500Z
DTSTART:20260530T180000Z
DTEND:20260530T193000Z
LOCATION:Larchmont Public Library, 121 Larchmont Avenue, Larchmont, NY 105
 38, United States
ROOM: The Village Center (entrance at rear of Library)
DESCRIPTION:Your Larchmont Library &amp; Larchmont Lions Club are celebrat
 ing their 100th Anniversaries in 2026, with special events reflecting each
  decade.  In May we celebrate the 1960’s with a live recreation of one 
 of the greatest Twilight Zone TV &amp; Radio episodes.Join us at the Larch
 mont Library &amp; Lions for a live recreation of the radio version of the
  classic Science Fiction series. Warning: This will be one time/no recordi
 ng event, made possible by special permission from CBS/Paramount. Be there
  or miss out.  Our audience will include Twilight Zone Fans and our blind
  &amp; visually impaired community neighbors.  The event will feature the
  live radio recreation presented by the Sandbox Theatre Company… and a s
 creening of the 2000’s TV episode.  This special event is co-sponsored 
 by the Larchmont Library, the Sandbox Theatre, SPERDVAC (The Society for t
 he Preservation of Radio Drama, Variety and Comedy), The Westchester Counc
 il For the Blind, LMC Media &amp; the Larchmont Mamaroneck LionsClub.Do yo
 u want a reminder for this program?  Click the box with the clock above t
 o request one.
URL:https://larchmont.librarycalendar.com/event/twilight-zone-lions-35295
END:VEVENT
END:VCALENDAR
